BEGIN:VCALENDAR
VERSION:2.0
PRODID:-//Omgevingsdienst NL - ECPv6.15.18//NONSGML v1.0//EN
CALSCALE:GREGORIAN
METHOD:PUBLISH
X-WR-CALNAME:Omgevingsdienst NL
X-ORIGINAL-URL:https://www.omgevingsdienst.nl
X-WR-CALDESC:Evenementen voor Omgevingsdienst NL
REFRESH-INTERVAL;VALUE=DURATION:PT1H
X-Robots-Tag:noindex
X-PUBLISHED-TTL:PT1H
BEGIN:VTIMEZONE
TZID:Europe/Amsterdam
BEGIN:DAYLIGHT
TZOFFSETFROM:+0100
TZOFFSETTO:+0200
TZNAME:CEST
DTSTART:20250330T010000
END:DAYLIGHT
BEGIN:STANDARD
TZOFFSETFROM:+0200
TZOFFSETTO:+0100
TZNAME:CET
DTSTART:20251026T010000
END:STANDARD
BEGIN:DAYLIGHT
TZOFFSETFROM:+0100
TZOFFSETTO:+0200
TZNAME:CEST
DTSTART:20260329T010000
END:DAYLIGHT
BEGIN:STANDARD
TZOFFSETFROM:+0200
TZOFFSETTO:+0100
TZNAME:CET
DTSTART:20261025T010000
END:STANDARD
BEGIN:DAYLIGHT
TZOFFSETFROM:+0100
TZOFFSETTO:+0200
TZNAME:CEST
DTSTART:20270328T010000
END:DAYLIGHT
BEGIN:STANDARD
TZOFFSETFROM:+0200
TZOFFSETTO:+0100
TZNAME:CET
DTSTART:20271031T010000
END:STANDARD
END:VTIMEZONE
BEGIN:VEVENT
DTSTART;TZID=Europe/Amsterdam:20260521T120000
DTEND;TZID=Europe/Amsterdam:20260521T173000
DTSTAMP:20260421T115012
CREATED:20260413T130225Z
LAST-MODIFIED:20260413T130225Z
UID:37054-1779364800-1779384600@www.omgevingsdienst.nl
SUMMARY:Netwerkmiddag AI - digitale transformatie
DESCRIPTION:De snelle evolutie van kunstmatige intelligentie is de experimentele fase inmiddels ontgroeid. Voor omgevingsdiensten ligt er een grote kans om deze technologie te omarmen. We staan voor complexe uitdagingen: de uitvoering van de Omgevingswet\, de roep om snellere vergunningverlening en de behoefte aan proactief\, datagedreven toezicht.  \nTijdens de Netwerkmiddag AI bieden we inspiratie\, delen we concrete handvatten en is er volop ruimte om te netwerken.   \nGraag nodigen we je uit om hierbij aanwezig te zijn. Keynote spreker is Jim Stolze. 
URL:https://www.omgevingsdienst.nl/evenementen-bijeenkomsten-item/netwerkmiddag-ai-digitale-transformatie/
LOCATION:Centraal in het land
CATEGORIES:Data en informatievoorziening
ATTACH;FMTTYPE=image/jpeg:https://www.omgevingsdienst.nl/wp-content/uploads/2026/04/SVENCEODNL-13.jpg
END:VEVENT
END:VCALENDAR